BEGIN:VCALENDAR
VERSION:2.0
PRODID:-//Blue Buoy Swim School, Tustin CA - ECPv6.15.20//NONSGML v1.0//EN
CALSCALE:GREGORIAN
METHOD:PUBLISH
X-WR-CALNAME:Blue Buoy Swim School, Tustin CA
X-ORIGINAL-URL:https://bluebuoy.com
X-WR-CALDESC:Events for Blue Buoy Swim School, Tustin CA
REFRESH-INTERVAL;VALUE=DURATION:PT1H
X-Robots-Tag:noindex
X-PUBLISHED-TTL:PT1H
BEGIN:VTIMEZONE
TZID:America/Los_Angeles
BEGIN:DAYLIGHT
TZOFFSETFROM:-0800
TZOFFSETTO:-0700
TZNAME:PDT
DTSTART:20240310T100000
END:DAYLIGHT
BEGIN:STANDARD
TZOFFSETFROM:-0700
TZOFFSETTO:-0800
TZNAME:PST
DTSTART:20241103T090000
END:STANDARD
BEGIN:DAYLIGHT
TZOFFSETFROM:-0800
TZOFFSETTO:-0700
TZNAME:PDT
DTSTART:20250309T100000
END:DAYLIGHT
BEGIN:STANDARD
TZOFFSETFROM:-0700
TZOFFSETTO:-0800
TZNAME:PST
DTSTART:20251102T090000
END:STANDARD
BEGIN:DAYLIGHT
TZOFFSETFROM:-0800
TZOFFSETTO:-0700
TZNAME:PDT
DTSTART:20260308T100000
END:DAYLIGHT
BEGIN:STANDARD
TZOFFSETFROM:-0700
TZOFFSETTO:-0800
TZNAME:PST
DTSTART:20261101T090000
END:STANDARD
BEGIN:DAYLIGHT
TZOFFSETFROM:-0800
TZOFFSETTO:-0700
TZNAME:PDT
DTSTART:20270314T100000
END:DAYLIGHT
BEGIN:STANDARD
TZOFFSETFROM:-0700
TZOFFSETTO:-0800
TZNAME:PST
DTSTART:20271107T090000
END:STANDARD
END:VTIMEZONE
BEGIN:VEVENT
DTSTART;VALUE=DATE:20250419
DTEND;VALUE=DATE:20250420
DTSTAMP:20260421T233220
CREATED:20250116T222121Z
LAST-MODIFIED:20250116T222121Z
UID:10001410-1745020800-1745107199@bluebuoy.com
SUMMARY:CLOSED ~Saturday\, April 19th Easter Weekend
DESCRIPTION:
URL:https://bluebuoy.com/event/easter-april-19-2025-closed/
LOCATION:CA
END:VEVENT
BEGIN:VEVENT
DTSTART;TZID=America/Los_Angeles:20250426T140000
DTEND;TZID=America/Los_Angeles:20250426T160000
DTSTAMP:20260421T233220
CREATED:20250116T222511Z
LAST-MODIFIED:20250116T222511Z
UID:10001411-1745676000-1745683200@bluebuoy.com
SUMMARY:Saturday\, April 26th Water Safety Challenge  (2pm-4pm)
DESCRIPTION:Week one (April 1-5) “April Pools Day/Swim with Clothes” \, \nWeek two (April 7-12)   Back float challenge “Float like a Boat”\, \nWeek three (April 14-18) Jump in and return “Rainbows back to side”\, \nWeek four (April 21-26)  Swim challenge  ” I can swim the distance!”
URL:https://bluebuoy.com/event/water-safety-challenge-2025/
LOCATION:CA
END:VEVENT
BEGIN:VEVENT
DTSTART;VALUE=DATE:20250524
DTEND;VALUE=DATE:20250527
DTSTAMP:20260421T233220
CREATED:20250116T223227Z
LAST-MODIFIED:20250116T223227Z
UID:10001412-1748044800-1748303999@bluebuoy.com
SUMMARY:CLOSED ~ Saturday\,  May 24th - Monday\, May 26th ~ Memorial Holiday
DESCRIPTION:
URL:https://bluebuoy.com/event/closed-may-24th-26th-2025/
LOCATION:CA
END:VEVENT
BEGIN:VEVENT
DTSTART;TZID=America/Los_Angeles:20250614T133000
DTEND;TZID=America/Los_Angeles:20250614T170000
DTSTAMP:20260421T233220
CREATED:20250120T202723Z
LAST-MODIFIED:20250120T224611Z
UID:10001423-1749907800-1749920400@bluebuoy.com
SUMMARY:Swim Meet June 14\, 2025 (Freestyle\, Breaststroke\, Indv. Medley)
DESCRIPTION:Online registration for this swim meet ends at 4 pm on the Friday before the event. Walk in-Sign ups are welcome at the pool starting at 1:30 pm on Saturday (event day). \nRegistration costs $6 per swimmer\, per event. \nNo refunds or transfers to different swim meet days.  If you need to change swimmers/event please notify staff before the swim meet begins. \n**Note names for swim records/times\, ribbons\, and trophies will be recorded. Please confirm the correct spelling of First & Last Name on the ticket form.**
URL:https://bluebuoy.com/event/swim-meet-june-14-2025/
LOCATION:Blue Buoy Family Swim School\, Nisson Road\, Tustin\, CA\, 92780\, United States
CATEGORIES:Swim Meet
GEO:33.7310777;-117.813173
X-APPLE-STRUCTURED-LOCATION;VALUE=URI;X-ADDRESS=Blue Buoy Family Swim School Nisson Road Tustin CA 92780 United States;X-APPLE-RADIUS=500;X-TITLE=Nisson Road:geo:-117.813173,33.7310777
END:VEVENT
BEGIN:VEVENT
DTSTART;VALUE=DATE:20250619
DTEND;VALUE=DATE:20250620
DTSTAMP:20260421T233220
CREATED:20250116T224732Z
LAST-MODIFIED:20250116T224732Z
UID:10001413-1750291200-1750377599@bluebuoy.com
SUMMARY:Thursday\, June 19th Juneteenth (Open regular hours)
DESCRIPTION:
URL:https://bluebuoy.com/event/june-19th-2025-open/
LOCATION:CA
END:VEVENT
BEGIN:VEVENT
DTSTART;VALUE=DATE:20250626
DTEND;VALUE=DATE:20250627
DTSTAMP:20260421T233220
CREATED:20250116T225542Z
LAST-MODIFIED:20250625T183232Z
UID:10001414-1750896000-1750982399@bluebuoy.com
SUMMARY:Thursday\, June 26th World’s Largest Swim Lesson (Check in 7:30 am)
DESCRIPTION:Check-in time is 7:30 am!
URL:https://bluebuoy.com/event/worlds-largest-swim-lesson-june-26th-2025/
LOCATION:CA
END:VEVENT
BEGIN:VEVENT
DTSTART;TZID=America/Los_Angeles:20250628T133000
DTEND;TZID=America/Los_Angeles:20250628T170000
DTSTAMP:20260421T233220
CREATED:20250120T205436Z
LAST-MODIFIED:20250625T025729Z
UID:10001424-1751117400-1751130000@bluebuoy.com
SUMMARY:Saturday\, June 28th 2025  ~ Swim Meet (Freestyle\, Butterfly\, Backstroke)
DESCRIPTION:Online registration for this swim meet ends at 4 pm on the Friday before the event. Walk in-Sign ups are welcome at the pool starting at 1:30 pm on Saturday (event day). \nRegistration costs $6 per swimmer\, per event. \nNo refunds or transfers to different swim meet days.  If you need to change swimmers/event please notify staff before the swim meet begins. \n**Note names for swim records/times\, ribbons\, and trophies will be recorded. Please confirm the correct spelling of First & Last Name on the ticket form.**
URL:https://bluebuoy.com/event/saturday-june-28th-2025-swim-meet/
LOCATION:Blue Buoy Family Swim School\, Nisson Road\, Tustin\, CA\, 92780\, United States
CATEGORIES:Swim Meet
GEO:33.7310777;-117.813173
X-APPLE-STRUCTURED-LOCATION;VALUE=URI;X-ADDRESS=Blue Buoy Family Swim School Nisson Road Tustin CA 92780 United States;X-APPLE-RADIUS=500;X-TITLE=Nisson Road:geo:-117.813173,33.7310777
END:VEVENT
BEGIN:VEVENT
DTSTART;VALUE=DATE:20250704
DTEND;VALUE=DATE:20250706
DTSTAMP:20260421T233220
CREATED:20250116T232510Z
LAST-MODIFIED:20250116T232636Z
UID:10001415-1751587200-1751759999@bluebuoy.com
SUMMARY:CLOSED Friday\, July 4th & Saturday\, July 5th Independence Day
DESCRIPTION:
URL:https://bluebuoy.com/event/closed-july-4th-july-5th-2025/
LOCATION:CA
END:VEVENT
BEGIN:VEVENT
DTSTART;TZID=America/Los_Angeles:20250712T133000
DTEND;TZID=America/Los_Angeles:20250712T170000
DTSTAMP:20260421T233220
CREATED:20250120T214335Z
LAST-MODIFIED:20250625T030754Z
UID:10001425-1752327000-1752339600@bluebuoy.com
SUMMARY:Saturday\, July 12th 2025 ~ Swim Meet (Freestyle\, Breaststroke\, Indv. Medley)
DESCRIPTION:Online registration for this swim meet ends at 4 pm on the Friday before the event. Walk in-Sign ups are welcome at the pool starting at 1:30 pm on Saturday (event day). \nRegistration costs $6 per swimmer\, per event. \nNo refunds or transfers to different swim meet days.  If you need to change swimmers/event please notify staff before the swim meet begins. \n**Note names for swim records/times\, ribbons\, and trophies will be recorded. Please confirm the correct spelling of First & Last Name on the ticket form.**
URL:https://bluebuoy.com/event/saturday-july-12th-2025-swim-meet/
LOCATION:Blue Buoy Family Swim School\, Nisson Road\, Tustin\, CA\, 92780\, United States
CATEGORIES:Swim Meet
GEO:33.7310777;-117.813173
X-APPLE-STRUCTURED-LOCATION;VALUE=URI;X-ADDRESS=Blue Buoy Family Swim School Nisson Road Tustin CA 92780 United States;X-APPLE-RADIUS=500;X-TITLE=Nisson Road:geo:-117.813173,33.7310777
END:VEVENT
BEGIN:VEVENT
DTSTART;TZID=America/Los_Angeles:20250726T133000
DTEND;TZID=America/Los_Angeles:20250726T170000
DTSTAMP:20260421T233220
CREATED:20250120T220852Z
LAST-MODIFIED:20250625T031719Z
UID:10001426-1753536600-1753549200@bluebuoy.com
SUMMARY:Saturday\, July 26th 2025 ~ Swim Meet (Freestyle\, Butterfly\, Backstroke)
DESCRIPTION:Online registration for this swim meet ends at 4 pm on the Friday before the event. Walk in-Sign ups are welcome at the pool starting at 1:30 pm on Saturday (event day). \nRegistration costs $6 per swimmer\, per event. \nNo refunds or transfers to different swim meet days.  If you need to change swimmers/event please notify staff before the swim meet begins. \n**Note names for swim records/times\, ribbons\, and trophies will be recorded. Please confirm the correct spelling of First & Last Name on the ticket form.**
URL:https://bluebuoy.com/event/saturday-july-26th-2025-swim-meet/
LOCATION:Blue Buoy Family Swim School\, Nisson Road\, Tustin\, CA\, 92780\, United States
CATEGORIES:Swim Meet
GEO:33.7310777;-117.813173
X-APPLE-STRUCTURED-LOCATION;VALUE=URI;X-ADDRESS=Blue Buoy Family Swim School Nisson Road Tustin CA 92780 United States;X-APPLE-RADIUS=500;X-TITLE=Nisson Road:geo:-117.813173,33.7310777
END:VEVENT
BEGIN:VEVENT
DTSTART;TZID=America/Los_Angeles:20250809T133000
DTEND;TZID=America/Los_Angeles:20250809T170000
DTSTAMP:20260421T233220
CREATED:20250120T222632Z
LAST-MODIFIED:20250625T032648Z
UID:10001427-1754746200-1754758800@bluebuoy.com
SUMMARY:Saturday\, Aug. 9th 2025 ~ Swim Meet (Freestyle\, Breaststroke\, Indv. Medley)
DESCRIPTION:Online registration for this swim meet ends at 4 pm on the Friday before the event. Walk in-Sign ups are welcome at the pool starting at 1:30 pm on Saturday (event day). \nRegistration costs $6 per swimmer\, per event. \nNo refunds or transfers to different swim meet days.  If you need to change swimmers/event please notify staff before the swim meet begins. \n**Note names for swim records/times\, ribbons\, and trophies will be recorded. Please confirm the correct spelling of First & Last Name on the ticket form.**
URL:https://bluebuoy.com/event/saturday-aug-9th-2025-swim-meet/
LOCATION:Blue Buoy Family Swim School\, Nisson Road\, Tustin\, CA\, 92780\, United States
CATEGORIES:Swim Meet
GEO:33.7310777;-117.813173
X-APPLE-STRUCTURED-LOCATION;VALUE=URI;X-ADDRESS=Blue Buoy Family Swim School Nisson Road Tustin CA 92780 United States;X-APPLE-RADIUS=500;X-TITLE=Nisson Road:geo:-117.813173,33.7310777
END:VEVENT
BEGIN:VEVENT
DTSTART;TZID=America/Los_Angeles:20250823T133000
DTEND;TZID=America/Los_Angeles:20250823T170000
DTSTAMP:20260421T233220
CREATED:20250120T224349Z
LAST-MODIFIED:20250625T033026Z
UID:10001428-1755955800-1755968400@bluebuoy.com
SUMMARY:Saturday\, Aug. 23rd 2025 ~ Swim Meet (Freestyle\, Butterfly\, Backstroke/ Parent’s race)
DESCRIPTION:Online registration for this swim meet ends at 4 pm on the Friday before the event. Walk in-Sign ups are welcome at the pool starting at 1:30 pm on Saturday (event day). \nRegistration costs $6 per swimmer\, per event. \nNo refunds or transfers to different swim meet days.  If you need to change swimmers/event please notify staff before the swim meet begins. \n**Note names for swim records/times\, ribbons\, and trophies will be recorded. Please confirm the correct spelling of First & Last Name on the ticket form.**
URL:https://bluebuoy.com/event/saturday-aug-23rd-2025-swim-meet/
LOCATION:Blue Buoy Family Swim School\, Nisson Road\, Tustin\, CA\, 92780\, United States
CATEGORIES:Swim Meet
GEO:33.7310777;-117.813173
X-APPLE-STRUCTURED-LOCATION;VALUE=URI;X-ADDRESS=Blue Buoy Family Swim School Nisson Road Tustin CA 92780 United States;X-APPLE-RADIUS=500;X-TITLE=Nisson Road:geo:-117.813173,33.7310777
END:VEVENT
BEGIN:VEVENT
DTSTART;VALUE=DATE:20250830
DTEND;VALUE=DATE:20250902
DTSTAMP:20260421T233220
CREATED:20250116T233134Z
LAST-MODIFIED:20250116T233134Z
UID:10001416-1756512000-1756771199@bluebuoy.com
SUMMARY:CLOSED ~ Saturday\, August 30th - Monday\, Sept. 1st ~ Labor Day
DESCRIPTION:
URL:https://bluebuoy.com/event/closed-august-30th-sept-1st-2025/
LOCATION:CA
END:VEVENT
BEGIN:VEVENT
DTSTART;TZID=America/Los_Angeles:20250905T180000
DTEND;TZID=America/Los_Angeles:20250905T190000
DTSTAMP:20260421T233220
CREATED:20250806T045419Z
LAST-MODIFIED:20250806T050315Z
UID:10001433-1757095200-1757098800@bluebuoy.com
SUMMARY:Splashball Clinic 2025
DESCRIPTION:Come have some fun and learn the basics of water polo! \nAges 6 & older \nSwim experience: Basic knowledge of all four strokes\n*This program is open to currently enrolled students\nand their siblings \nSplashball is designed to provide basic skills and\nunderstanding of the sport water polo in a fun\, dynamic\,\nsafe and easy-to-learn aquatic experience \nFridays: Sept. 5th\, 12th 19th and 26th\nTime: 6 p.m. – 7 p.m.\n(Check-in at 5:45 p.m.) \nReservations start August 11th end on August. 29th. Call to reserve a spot.\nSpaces are limited \nPayment is due upon reservation. No refunds. No make-ups.\nCall our Scheduling Office at 714-832-8910 to get more\ninformation or to sign up! (M-F: 9 a.m.—5 p.m. & Sat: 9 a.m.—1p.m.) \n2025 splashball Flyer
URL:https://bluebuoy.com/event/splashball-clinic-2025/2025-09-05/
LOCATION:Blue Buoy Family Swim School\, Nisson Road\, Tustin\, CA\, 92780\, United States
GEO:33.7310777;-117.813173
X-APPLE-STRUCTURED-LOCATION;VALUE=URI;X-ADDRESS=Blue Buoy Family Swim School Nisson Road Tustin CA 92780 United States;X-APPLE-RADIUS=500;X-TITLE=Nisson Road:geo:-117.813173,33.7310777
END:VEVENT
BEGIN:VEVENT
DTSTART;VALUE=DATE:20250907
DTEND;VALUE=DATE:20250908
DTSTAMP:20260421T233220
CREATED:20250120T190516Z
LAST-MODIFIED:20250120T190516Z
UID:10001417-1757203200-1757289599@bluebuoy.com
SUMMARY:Sunday\, September 7th~ Happy Grandparents Day!
DESCRIPTION:Bring your Grandparent in this month for a Free Grandparents T- Shirt
URL:https://bluebuoy.com/event/september-7th-2025-grandparents-day/
LOCATION:CA
END:VEVENT
BEGIN:VEVENT
DTSTART;TZID=America/Los_Angeles:20250912T180000
DTEND;TZID=America/Los_Angeles:20250912T190000
DTSTAMP:20260421T233220
CREATED:20250806T045419Z
LAST-MODIFIED:20250806T050315Z
UID:10001434-1757700000-1757703600@bluebuoy.com
SUMMARY:Splashball Clinic 2025
DESCRIPTION:Come have some fun and learn the basics of water polo! \nAges 6 & older \nSwim experience: Basic knowledge of all four strokes\n*This program is open to currently enrolled students\nand their siblings \nSplashball is designed to provide basic skills and\nunderstanding of the sport water polo in a fun\, dynamic\,\nsafe and easy-to-learn aquatic experience \nFridays: Sept. 5th\, 12th 19th and 26th\nTime: 6 p.m. – 7 p.m.\n(Check-in at 5:45 p.m.) \nReservations start August 11th end on August. 29th. Call to reserve a spot.\nSpaces are limited \nPayment is due upon reservation. No refunds. No make-ups.\nCall our Scheduling Office at 714-832-8910 to get more\ninformation or to sign up! (M-F: 9 a.m.—5 p.m. & Sat: 9 a.m.—1p.m.) \n2025 splashball Flyer
URL:https://bluebuoy.com/event/splashball-clinic-2025/2025-09-12/
LOCATION:Blue Buoy Family Swim School\, Nisson Road\, Tustin\, CA\, 92780\, United States
GEO:33.7310777;-117.813173
X-APPLE-STRUCTURED-LOCATION;VALUE=URI;X-ADDRESS=Blue Buoy Family Swim School Nisson Road Tustin CA 92780 United States;X-APPLE-RADIUS=500;X-TITLE=Nisson Road:geo:-117.813173,33.7310777
END:VEVENT
BEGIN:VEVENT
DTSTART;TZID=America/Los_Angeles:20250919T180000
DTEND;TZID=America/Los_Angeles:20250919T190000
DTSTAMP:20260421T233220
CREATED:20250806T045419Z
LAST-MODIFIED:20250806T050315Z
UID:10001435-1758304800-1758308400@bluebuoy.com
SUMMARY:Splashball Clinic 2025
DESCRIPTION:Come have some fun and learn the basics of water polo! \nAges 6 & older \nSwim experience: Basic knowledge of all four strokes\n*This program is open to currently enrolled students\nand their siblings \nSplashball is designed to provide basic skills and\nunderstanding of the sport water polo in a fun\, dynamic\,\nsafe and easy-to-learn aquatic experience \nFridays: Sept. 5th\, 12th 19th and 26th\nTime: 6 p.m. – 7 p.m.\n(Check-in at 5:45 p.m.) \nReservations start August 11th end on August. 29th. Call to reserve a spot.\nSpaces are limited \nPayment is due upon reservation. No refunds. No make-ups.\nCall our Scheduling Office at 714-832-8910 to get more\ninformation or to sign up! (M-F: 9 a.m.—5 p.m. & Sat: 9 a.m.—1p.m.) \n2025 splashball Flyer
URL:https://bluebuoy.com/event/splashball-clinic-2025/2025-09-19/
LOCATION:Blue Buoy Family Swim School\, Nisson Road\, Tustin\, CA\, 92780\, United States
GEO:33.7310777;-117.813173
X-APPLE-STRUCTURED-LOCATION;VALUE=URI;X-ADDRESS=Blue Buoy Family Swim School Nisson Road Tustin CA 92780 United States;X-APPLE-RADIUS=500;X-TITLE=Nisson Road:geo:-117.813173,33.7310777
END:VEVENT
BEGIN:VEVENT
DTSTART;TZID=America/Los_Angeles:20250926T180000
DTEND;TZID=America/Los_Angeles:20250926T190000
DTSTAMP:20260421T233220
CREATED:20250806T045419Z
LAST-MODIFIED:20250806T050315Z
UID:10001436-1758909600-1758913200@bluebuoy.com
SUMMARY:Splashball Clinic 2025
DESCRIPTION:Come have some fun and learn the basics of water polo! \nAges 6 & older \nSwim experience: Basic knowledge of all four strokes\n*This program is open to currently enrolled students\nand their siblings \nSplashball is designed to provide basic skills and\nunderstanding of the sport water polo in a fun\, dynamic\,\nsafe and easy-to-learn aquatic experience \nFridays: Sept. 5th\, 12th 19th and 26th\nTime: 6 p.m. – 7 p.m.\n(Check-in at 5:45 p.m.) \nReservations start August 11th end on August. 29th. Call to reserve a spot.\nSpaces are limited \nPayment is due upon reservation. No refunds. No make-ups.\nCall our Scheduling Office at 714-832-8910 to get more\ninformation or to sign up! (M-F: 9 a.m.—5 p.m. & Sat: 9 a.m.—1p.m.) \n2025 splashball Flyer
URL:https://bluebuoy.com/event/splashball-clinic-2025/2025-09-26/
LOCATION:Blue Buoy Family Swim School\, Nisson Road\, Tustin\, CA\, 92780\, United States
GEO:33.7310777;-117.813173
X-APPLE-STRUCTURED-LOCATION;VALUE=URI;X-ADDRESS=Blue Buoy Family Swim School Nisson Road Tustin CA 92780 United States;X-APPLE-RADIUS=500;X-TITLE=Nisson Road:geo:-117.813173,33.7310777
END:VEVENT
BEGIN:VEVENT
DTSTART;VALUE=DATE:20251013
DTEND;VALUE=DATE:20251014
DTSTAMP:20260421T233220
CREATED:20250120T190753Z
LAST-MODIFIED:20250120T190753Z
UID:10001418-1760313600-1760399999@bluebuoy.com
SUMMARY:Monday\, Oct. 13th  Columbus Day (Open regular hours)
DESCRIPTION:
URL:https://bluebuoy.com/event/oct-13th-2025-columbus-day/
LOCATION:CA
END:VEVENT
BEGIN:VEVENT
DTSTART;VALUE=DATE:20251031
DTEND;VALUE=DATE:20251101
DTSTAMP:20260421T233220
CREATED:20250120T190935Z
LAST-MODIFIED:20251009T045033Z
UID:10001419-1761868800-1761955199@bluebuoy.com
SUMMARY:Friday\, October 31st ~ Happy Halloween\, we will be closing at 4pm (last lessons 3:40pm)
DESCRIPTION:We will be closing at 4pm (last lessons 3:40pm)
URL:https://bluebuoy.com/event/october-31st-2025-halloween/
LOCATION:CA
END:VEVENT
BEGIN:VEVENT
DTSTART;VALUE=DATE:20251111
DTEND;VALUE=DATE:20251112
DTSTAMP:20260421T233220
CREATED:20250120T191814Z
LAST-MODIFIED:20250120T191814Z
UID:10001420-1762819200-1762905599@bluebuoy.com
SUMMARY:Tuesday\, November 11th ~ Happy Veterans’ Day (Open regular hours)
DESCRIPTION:
URL:https://bluebuoy.com/event/november-11th-2025-veterans-day/
LOCATION:CA
END:VEVENT
BEGIN:VEVENT
DTSTART;VALUE=DATE:20251127
DTEND;VALUE=DATE:20251201
DTSTAMP:20260421T233220
CREATED:20250120T191957Z
LAST-MODIFIED:20250120T191957Z
UID:10001421-1764201600-1764547199@bluebuoy.com
SUMMARY:CLOSED ~ Thursday\, November 27th - Sunday\, November 30th ~ Thanksgiving Holiday
DESCRIPTION:
URL:https://bluebuoy.com/event/closed-november-27th-november-30th-thanksgiving/
LOCATION:CA
END:VEVENT
BEGIN:VEVENT
DTSTART;VALUE=DATE:20251222
DTEND;VALUE=DATE:20260106
DTSTAMP:20260421T233220
CREATED:20250120T194108Z
LAST-MODIFIED:20250120T194108Z
UID:10001422-1766361600-1767657599@bluebuoy.com
SUMMARY:CLOSED Monday\, Dec. 22nd  Begin Holiday Break ~  Reopen JAN 2026
DESCRIPTION:
URL:https://bluebuoy.com/event/closed-dec-22nd-holiday-break-reopen-jan-2026/
LOCATION:CA
END:VEVENT
BEGIN:VEVENT
DTSTART;VALUE=DATE:20260105
DTEND;VALUE=DATE:20260106
DTSTAMP:20260421T233220
CREATED:20260211T060137Z
LAST-MODIFIED:20260211T060137Z
UID:10001438-1767571200-1767657599@bluebuoy.com
SUMMARY:Lessons Resume after Holidays
DESCRIPTION:
URL:https://bluebuoy.com/event/lessons-resume-after-holidays/
LOCATION:CA
END:VEVENT
BEGIN:VEVENT
DTSTART;VALUE=DATE:20260119
DTEND;VALUE=DATE:20260120
DTSTAMP:20260421T233220
CREATED:20260211T060137Z
LAST-MODIFIED:20260211T060137Z
UID:10001439-1768780800-1768867199@bluebuoy.com
SUMMARY:Martin Luther King Day (Open regular hours)
DESCRIPTION:
URL:https://bluebuoy.com/event/martin-luther-king-day-open-regular-hours/
LOCATION:CA
END:VEVENT
BEGIN:VEVENT
DTSTART;VALUE=DATE:20260216
DTEND;VALUE=DATE:20260217
DTSTAMP:20260421T233220
CREATED:20260211T060137Z
LAST-MODIFIED:20260211T060137Z
UID:10001440-1771200000-1771286399@bluebuoy.com
SUMMARY:CLOSED ~ Washington’s Day/President’s Day
DESCRIPTION:
URL:https://bluebuoy.com/event/closed-washingtons-day-presidents-day/
LOCATION:CA
END:VEVENT
BEGIN:VEVENT
DTSTART;TZID=America/Los_Angeles:20260306T180000
DTEND;TZID=America/Los_Angeles:20260306T190000
DTSTAMP:20260421T233220
CREATED:20260211T060137Z
LAST-MODIFIED:20260211T060137Z
UID:10001441-1772820000-1772823600@bluebuoy.com
SUMMARY:Splash ball
DESCRIPTION:
URL:https://bluebuoy.com/event/splash-ball/
LOCATION:CA
END:VEVENT
BEGIN:VEVENT
DTSTART;VALUE=DATE:20260308
DTEND;VALUE=DATE:20260309
DTSTAMP:20260421T233220
CREATED:20260211T060141Z
LAST-MODIFIED:20260211T060141Z
UID:10001445-1772928000-1773014399@bluebuoy.com
SUMMARY:Daylight Saving Time Starts
DESCRIPTION:
URL:https://bluebuoy.com/event/daylight-saving-time-starts/
LOCATION:CA
END:VEVENT
BEGIN:VEVENT
DTSTART;TZID=America/Los_Angeles:20260313T180000
DTEND;TZID=America/Los_Angeles:20260313T190000
DTSTAMP:20260421T233220
CREATED:20260211T060138Z
LAST-MODIFIED:20260211T060138Z
UID:10001442-1773424800-1773428400@bluebuoy.com
SUMMARY:Splash ball
DESCRIPTION:
URL:https://bluebuoy.com/event/splash-ball-2/
LOCATION:CA
END:VEVENT
BEGIN:VEVENT
DTSTART;VALUE=DATE:20260317
DTEND;VALUE=DATE:20260318
DTSTAMP:20260421T233220
CREATED:20260211T060141Z
LAST-MODIFIED:20260211T060141Z
UID:10001446-1773705600-1773791999@bluebuoy.com
SUMMARY:St. Patrick’s Day (Open regular hours)
DESCRIPTION:
URL:https://bluebuoy.com/event/st-patricks-day-open-regular-hours/
LOCATION:CA
END:VEVENT
END:VCALENDAR