BEGIN:VCALENDAR
VERSION:2.0
PRODID:-//Blue Buoy Swim School, Tustin CA - ECPv6.15.20//NONSGML v1.0//EN
CALSCALE:GREGORIAN
METHOD:PUBLISH
X-ORIGINAL-URL:https://bluebuoy.com
X-WR-CALDESC:Events for Blue Buoy Swim School, Tustin CA
REFRESH-INTERVAL;VALUE=DURATION:PT1H
X-Robots-Tag:noindex
X-PUBLISHED-TTL:PT1H
BEGIN:VTIMEZONE
TZID:America/Los_Angeles
BEGIN:DAYLIGHT
TZOFFSETFROM:-0800
TZOFFSETTO:-0700
TZNAME:PDT
DTSTART:20240310T100000
END:DAYLIGHT
BEGIN:STANDARD
TZOFFSETFROM:-0700
TZOFFSETTO:-0800
TZNAME:PST
DTSTART:20241103T090000
END:STANDARD
BEGIN:DAYLIGHT
TZOFFSETFROM:-0800
TZOFFSETTO:-0700
TZNAME:PDT
DTSTART:20250309T100000
END:DAYLIGHT
BEGIN:STANDARD
TZOFFSETFROM:-0700
TZOFFSETTO:-0800
TZNAME:PST
DTSTART:20251102T090000
END:STANDARD
BEGIN:DAYLIGHT
TZOFFSETFROM:-0800
TZOFFSETTO:-0700
TZNAME:PDT
DTSTART:20260308T100000
END:DAYLIGHT
BEGIN:STANDARD
TZOFFSETFROM:-0700
TZOFFSETTO:-0800
TZNAME:PST
DTSTART:20261101T090000
END:STANDARD
BEGIN:DAYLIGHT
TZOFFSETFROM:-0800
TZOFFSETTO:-0700
TZNAME:PDT
DTSTART:20270314T100000
END:DAYLIGHT
BEGIN:STANDARD
TZOFFSETFROM:-0700
TZOFFSETTO:-0800
TZNAME:PST
DTSTART:20271107T090000
END:STANDARD
END:VTIMEZONE
BEGIN:VEVENT
DTSTART;TZID=America/Los_Angeles:20250926T180000
DTEND;TZID=America/Los_Angeles:20250926T190000
DTSTAMP:20260421T175221
CREATED:20250806T045419Z
LAST-MODIFIED:20250806T050315Z
UID:10001436-1758909600-1758913200@bluebuoy.com
SUMMARY:Splashball Clinic 2025
DESCRIPTION:Come have some fun and learn the basics of water polo! \nAges 6 & older \nSwim experience: Basic knowledge of all four strokes\n*This program is open to currently enrolled students\nand their siblings \nSplashball is designed to provide basic skills and\nunderstanding of the sport water polo in a fun\, dynamic\,\nsafe and easy-to-learn aquatic experience \nFridays: Sept. 5th\, 12th 19th and 26th\nTime: 6 p.m. – 7 p.m.\n(Check-in at 5:45 p.m.) \nReservations start August 11th end on August. 29th. Call to reserve a spot.\nSpaces are limited \nPayment is due upon reservation. No refunds. No make-ups.\nCall our Scheduling Office at 714-832-8910 to get more\ninformation or to sign up! (M-F: 9 a.m.—5 p.m. & Sat: 9 a.m.—1p.m.) \n2025 splashball Flyer
URL:https://bluebuoy.com/event/splashball-clinic-2025/2025-09-26/
LOCATION:Blue Buoy Family Swim School\, Nisson Road\, Tustin\, CA\, 92780\, United States
GEO:33.7310777;-117.813173
X-APPLE-STRUCTURED-LOCATION;VALUE=URI;X-ADDRESS=Blue Buoy Family Swim School Nisson Road Tustin CA 92780 United States;X-APPLE-RADIUS=500;X-TITLE=Nisson Road:geo:-117.813173,33.7310777
END:VEVENT
BEGIN:VEVENT
DTSTART;VALUE=DATE:20251013
DTEND;VALUE=DATE:20251014
DTSTAMP:20260421T175221
CREATED:20250120T190753Z
LAST-MODIFIED:20250120T190753Z
UID:10001418-1760313600-1760399999@bluebuoy.com
SUMMARY:Monday\, Oct. 13th  Columbus Day (Open regular hours)
DESCRIPTION:
URL:https://bluebuoy.com/event/oct-13th-2025-columbus-day/
LOCATION:CA
END:VEVENT
BEGIN:VEVENT
DTSTART;VALUE=DATE:20251031
DTEND;VALUE=DATE:20251101
DTSTAMP:20260421T175221
CREATED:20250120T190935Z
LAST-MODIFIED:20251009T045033Z
UID:10001419-1761868800-1761955199@bluebuoy.com
SUMMARY:Friday\, October 31st ~ Happy Halloween\, we will be closing at 4pm (last lessons 3:40pm)
DESCRIPTION:We will be closing at 4pm (last lessons 3:40pm)
URL:https://bluebuoy.com/event/october-31st-2025-halloween/
LOCATION:CA
END:VEVENT
BEGIN:VEVENT
DTSTART;VALUE=DATE:20251111
DTEND;VALUE=DATE:20251112
DTSTAMP:20260421T175221
CREATED:20250120T191814Z
LAST-MODIFIED:20250120T191814Z
UID:10001420-1762819200-1762905599@bluebuoy.com
SUMMARY:Tuesday\, November 11th ~ Happy Veterans’ Day (Open regular hours)
DESCRIPTION:
URL:https://bluebuoy.com/event/november-11th-2025-veterans-day/
LOCATION:CA
END:VEVENT
BEGIN:VEVENT
DTSTART;VALUE=DATE:20251127
DTEND;VALUE=DATE:20251201
DTSTAMP:20260421T175221
CREATED:20250120T191957Z
LAST-MODIFIED:20250120T191957Z
UID:10001421-1764201600-1764547199@bluebuoy.com
SUMMARY:CLOSED ~ Thursday\, November 27th - Sunday\, November 30th ~ Thanksgiving Holiday
DESCRIPTION:
URL:https://bluebuoy.com/event/closed-november-27th-november-30th-thanksgiving/
LOCATION:CA
END:VEVENT
BEGIN:VEVENT
DTSTART;VALUE=DATE:20251222
DTEND;VALUE=DATE:20260106
DTSTAMP:20260421T175221
CREATED:20250120T194108Z
LAST-MODIFIED:20250120T194108Z
UID:10001422-1766361600-1767657599@bluebuoy.com
SUMMARY:CLOSED Monday\, Dec. 22nd  Begin Holiday Break ~  Reopen JAN 2026
DESCRIPTION:
URL:https://bluebuoy.com/event/closed-dec-22nd-holiday-break-reopen-jan-2026/
LOCATION:CA
END:VEVENT
BEGIN:VEVENT
DTSTART;VALUE=DATE:20260105
DTEND;VALUE=DATE:20260106
DTSTAMP:20260421T175221
CREATED:20260211T060137Z
LAST-MODIFIED:20260211T060137Z
UID:10001438-1767571200-1767657599@bluebuoy.com
SUMMARY:Lessons Resume after Holidays
DESCRIPTION:
URL:https://bluebuoy.com/event/lessons-resume-after-holidays/
LOCATION:CA
END:VEVENT
BEGIN:VEVENT
DTSTART;VALUE=DATE:20260119
DTEND;VALUE=DATE:20260120
DTSTAMP:20260421T175221
CREATED:20260211T060137Z
LAST-MODIFIED:20260211T060137Z
UID:10001439-1768780800-1768867199@bluebuoy.com
SUMMARY:Martin Luther King Day (Open regular hours)
DESCRIPTION:
URL:https://bluebuoy.com/event/martin-luther-king-day-open-regular-hours/
LOCATION:CA
END:VEVENT
BEGIN:VEVENT
DTSTART;VALUE=DATE:20260216
DTEND;VALUE=DATE:20260217
DTSTAMP:20260421T175221
CREATED:20260211T060137Z
LAST-MODIFIED:20260211T060137Z
UID:10001440-1771200000-1771286399@bluebuoy.com
SUMMARY:CLOSED ~ Washington’s Day/President’s Day
DESCRIPTION:
URL:https://bluebuoy.com/event/closed-washingtons-day-presidents-day/
LOCATION:CA
END:VEVENT
BEGIN:VEVENT
DTSTART;TZID=America/Los_Angeles:20260306T180000
DTEND;TZID=America/Los_Angeles:20260306T190000
DTSTAMP:20260421T175221
CREATED:20260211T060137Z
LAST-MODIFIED:20260211T060137Z
UID:10001441-1772820000-1772823600@bluebuoy.com
SUMMARY:Splash ball
DESCRIPTION:
URL:https://bluebuoy.com/event/splash-ball/
LOCATION:CA
END:VEVENT
BEGIN:VEVENT
DTSTART;VALUE=DATE:20260308
DTEND;VALUE=DATE:20260309
DTSTAMP:20260421T175221
CREATED:20260211T060141Z
LAST-MODIFIED:20260211T060141Z
UID:10001445-1772928000-1773014399@bluebuoy.com
SUMMARY:Daylight Saving Time Starts
DESCRIPTION:
URL:https://bluebuoy.com/event/daylight-saving-time-starts/
LOCATION:CA
END:VEVENT
BEGIN:VEVENT
DTSTART;TZID=America/Los_Angeles:20260313T180000
DTEND;TZID=America/Los_Angeles:20260313T190000
DTSTAMP:20260421T175221
CREATED:20260211T060138Z
LAST-MODIFIED:20260211T060138Z
UID:10001442-1773424800-1773428400@bluebuoy.com
SUMMARY:Splash ball
DESCRIPTION:
URL:https://bluebuoy.com/event/splash-ball-2/
LOCATION:CA
END:VEVENT
BEGIN:VEVENT
DTSTART;VALUE=DATE:20260317
DTEND;VALUE=DATE:20260318
DTSTAMP:20260421T175221
CREATED:20260211T060141Z
LAST-MODIFIED:20260211T060141Z
UID:10001446-1773705600-1773791999@bluebuoy.com
SUMMARY:St. Patrick’s Day (Open regular hours)
DESCRIPTION:
URL:https://bluebuoy.com/event/st-patricks-day-open-regular-hours/
LOCATION:CA
END:VEVENT
BEGIN:VEVENT
DTSTART;TZID=America/Los_Angeles:20260320T180000
DTEND;TZID=America/Los_Angeles:20260320T190000
DTSTAMP:20260421T175221
CREATED:20260211T060140Z
LAST-MODIFIED:20260211T060140Z
UID:10001443-1774029600-1774033200@bluebuoy.com
SUMMARY:Splash ball
DESCRIPTION:
URL:https://bluebuoy.com/event/splash-ball-3/
LOCATION:CA
END:VEVENT
BEGIN:VEVENT
DTSTART;TZID=America/Los_Angeles:20260327T180000
DTEND;TZID=America/Los_Angeles:20260327T190000
DTSTAMP:20260421T175221
CREATED:20260211T060141Z
LAST-MODIFIED:20260211T060141Z
UID:10001444-1774634400-1774638000@bluebuoy.com
SUMMARY:Splash ball
DESCRIPTION:
URL:https://bluebuoy.com/event/splash-ball-4/
LOCATION:CA
END:VEVENT
BEGIN:VEVENT
DTSTART;VALUE=DATE:20260404
DTEND;VALUE=DATE:20260405
DTSTAMP:20260421T175221
CREATED:20260211T060141Z
LAST-MODIFIED:20260211T060141Z
UID:10001447-1775260800-1775347199@bluebuoy.com
SUMMARY:CLOSED ~ Easter Weekend
DESCRIPTION:
URL:https://bluebuoy.com/event/closed-easter-weekend/
LOCATION:CA
END:VEVENT
BEGIN:VEVENT
DTSTART;TZID=America/Los_Angeles:20260425T140000
DTEND;TZID=America/Los_Angeles:20260425T160000
DTSTAMP:20260421T175221
CREATED:20260211T060237Z
LAST-MODIFIED:20260211T060237Z
UID:10001448-1777125600-1777132800@bluebuoy.com
SUMMARY:Water Safety Challenge (TBA)
DESCRIPTION:
URL:https://bluebuoy.com/event/water-safety-challenge-tba/
LOCATION:CA
END:VEVENT
BEGIN:VEVENT
DTSTART;VALUE=DATE:20260510
DTEND;VALUE=DATE:20260511
DTSTAMP:20260421T175221
CREATED:20260211T060237Z
LAST-MODIFIED:20260211T060237Z
UID:10001449-1778371200-1778457599@bluebuoy.com
SUMMARY:Mother’s Day
DESCRIPTION:
URL:https://bluebuoy.com/event/mothers-day/
LOCATION:CA
END:VEVENT
BEGIN:VEVENT
DTSTART;VALUE=DATE:20260523
DTEND;VALUE=DATE:20260526
DTSTAMP:20260421T175221
CREATED:20260211T060238Z
LAST-MODIFIED:20260211T060238Z
UID:10001450-1779494400-1779753599@bluebuoy.com
SUMMARY:CLOSED ~ Memorial Holiday
DESCRIPTION:
URL:https://bluebuoy.com/event/closed-memorial-holiday/
LOCATION:CA
END:VEVENT
BEGIN:VEVENT
DTSTART;VALUE=DATE:20260613
DTEND;VALUE=DATE:20260614
DTSTAMP:20260421T175221
CREATED:20260211T060238Z
LAST-MODIFIED:20260211T060238Z
UID:10001451-1781308800-1781395199@bluebuoy.com
SUMMARY:Swim Meet (Freestyle\, Breaststroke\, Indv. Medley)
DESCRIPTION:
URL:https://bluebuoy.com/event/swim-meet-freestyle-breaststroke-indv-medley/
LOCATION:CA
END:VEVENT
BEGIN:VEVENT
DTSTART;TZID=America/Los_Angeles:20260613T133000
DTEND;TZID=America/Los_Angeles:20260613T170000
DTSTAMP:20260421T175221
CREATED:20260217T055019Z
LAST-MODIFIED:20260218T055849Z
UID:10001466-1781357400-1781370000@bluebuoy.com
SUMMARY:Saturday\, June. 13th 2026 ~ Swim Meet (Freestyle\, Breaststroke\, Indv. Medley)
DESCRIPTION:Online registration for this swim meet ends at 4 pm on the Friday before the event. Walk in-Sign ups are welcome at the pool starting at 1:30 pm on Saturday (event day). \nRegistration costs $6 per swimmer\, per event. \nNo refunds or transfers to different swim meet days.  If you need to change swimmers/event please notify staff before the swim meet begins. \n**Note names for swim records/times\, ribbons\, and trophies will be recorded. Please confirm the correct spelling of First & Last Name on the ticket form.**
URL:https://bluebuoy.com/event/saturday-june-13th-2026-swim-meet-freestyle-breaststroke-indv-medley/
LOCATION:Blue Buoy Family Swim School\, Nisson Road\, Tustin\, CA\, 92780\, United States
CATEGORIES:Swim Meet
GEO:33.7310777;-117.813173
X-APPLE-STRUCTURED-LOCATION;VALUE=URI;X-ADDRESS=Blue Buoy Family Swim School Nisson Road Tustin CA 92780 United States;X-APPLE-RADIUS=500;X-TITLE=Nisson Road:geo:-117.813173,33.7310777
END:VEVENT
BEGIN:VEVENT
DTSTART;VALUE=DATE:20260619
DTEND;VALUE=DATE:20260620
DTSTAMP:20260421T175221
CREATED:20260211T060238Z
LAST-MODIFIED:20260211T060238Z
UID:10001452-1781827200-1781913599@bluebuoy.com
SUMMARY:Juneteenth (Open Regular hours)
DESCRIPTION:
URL:https://bluebuoy.com/event/juneteenth-open-regular-hours/
LOCATION:CA
END:VEVENT
BEGIN:VEVENT
DTSTART;VALUE=DATE:20260621
DTEND;VALUE=DATE:20260622
DTSTAMP:20260421T175221
CREATED:20260211T060243Z
LAST-MODIFIED:20260211T060243Z
UID:10001453-1782000000-1782086399@bluebuoy.com
SUMMARY:Father’s Day
DESCRIPTION:
URL:https://bluebuoy.com/event/fathers-day/
LOCATION:CA
END:VEVENT
BEGIN:VEVENT
DTSTART;TZID=America/Los_Angeles:20260626T073000
DTEND;TZID=America/Los_Angeles:20260626T073000
DTSTAMP:20260421T175221
CREATED:20260211T060243Z
LAST-MODIFIED:20260211T060243Z
UID:10001454-1782459000-1782459000@bluebuoy.com
SUMMARY:World’s Largest Swim Lesson (Check in 7:30am)
DESCRIPTION:
URL:https://bluebuoy.com/event/worlds-largest-swim-lesson-check-in-730am/
LOCATION:CA
END:VEVENT
BEGIN:VEVENT
DTSTART;TZID=America/Los_Angeles:20260627T080000
DTEND;TZID=America/Los_Angeles:20260627T170000
DTSTAMP:20260421T175221
CREATED:20260217T062541Z
LAST-MODIFIED:20260217T064355Z
UID:10001468-1782547200-1782579600@bluebuoy.com
SUMMARY:Saturday\, June 27th 2026 ~ Swim Meet (Freestyle\, Butterfly\, Backstroke)
DESCRIPTION:Online registration for this swim meet ends at 4 pm on the Friday before the event. Walk in-Sign ups are welcome at the pool starting at 1:30 pm on Saturday (event day). \nRegistration costs $6 per swimmer\, per event. \nNo refunds or transfers to different swim meet days.  If you need to change swimmers/event please notify staff before the swim meet begins. \n**Note names for swim records/times\, ribbons\, and trophies will be recorded. Please confirm the correct spelling of First & Last Name on the ticket form.**
URL:https://bluebuoy.com/event/saturday-june-27th-2026-swim-meet-freestyle-butterfly-backstroke/
LOCATION:Blue Buoy Family Swim School\, Nisson Road\, Tustin\, CA\, 92780\, United States
CATEGORIES:Swim Meet
GEO:33.7310777;-117.813173
X-APPLE-STRUCTURED-LOCATION;VALUE=URI;X-ADDRESS=Blue Buoy Family Swim School Nisson Road Tustin CA 92780 United States;X-APPLE-RADIUS=500;X-TITLE=Nisson Road:geo:-117.813173,33.7310777
END:VEVENT
BEGIN:VEVENT
DTSTART;VALUE=DATE:20260703
DTEND;VALUE=DATE:20260705
DTSTAMP:20260421T175221
CREATED:20260211T060244Z
LAST-MODIFIED:20260211T060244Z
UID:10001456-1783036800-1783209599@bluebuoy.com
SUMMARY:CLOSED Independence Day
DESCRIPTION:
URL:https://bluebuoy.com/event/closed-independence-day/
LOCATION:CA
END:VEVENT
BEGIN:VEVENT
DTSTART;TZID=America/Los_Angeles:20260711T133000
DTEND;TZID=America/Los_Angeles:20260711T170000
DTSTAMP:20260421T175221
CREATED:20260211T054227Z
LAST-MODIFIED:20260211T054227Z
UID:10001437-1783776600-1783789200@bluebuoy.com
SUMMARY:Saturday\, July. 11th 2026 ~ Swim Meet (Freestyle\, Breaststroke\, Indv. Medley)
DESCRIPTION:Online registration for this swim meet ends at 4 pm on the Friday before the event. Walk in-Sign ups are welcome at the pool starting at 1:30 pm on Saturday (event day). \nRegistration costs $6 per swimmer\, per event. \nNo refunds or transfers to different swim meet days.  If you need to change swimmers/event please notify staff before the swim meet begins. \n**Note names for swim records/times\, ribbons\, and trophies will be recorded. Please confirm the correct spelling of First & Last Name on the ticket form.**
URL:https://bluebuoy.com/event/saturday-july-11th-2026-swim-meet/
LOCATION:Blue Buoy Family Swim School\, Nisson Road\, Tustin\, CA\, 92780\, United States
CATEGORIES:Swim Meet
GEO:33.7310777;-117.813173
X-APPLE-STRUCTURED-LOCATION;VALUE=URI;X-ADDRESS=Blue Buoy Family Swim School Nisson Road Tustin CA 92780 United States;X-APPLE-RADIUS=500;X-TITLE=Nisson Road:geo:-117.813173,33.7310777
END:VEVENT
BEGIN:VEVENT
DTSTART;TZID=America/Los_Angeles:20260725T133000
DTEND;TZID=America/Los_Angeles:20260725T170000
DTSTAMP:20260421T175221
CREATED:20260218T052629Z
LAST-MODIFIED:20260218T052629Z
UID:10001469-1784986200-1784998800@bluebuoy.com
SUMMARY:Saturday\, July 25th 2026 ~ Swim Meet (Freestyle\, Butterfly\, Backstroke)
DESCRIPTION:Online registration for this swim meet ends at 4 pm on the Friday before the event. Walk in-Sign ups are welcome at the pool starting at 1:30 pm on Saturday (event day). \nRegistration costs $6 per swimmer\, per event. \nNo refunds or transfers to different swim meet days.  If you need to change swimmers/event please notify staff before the swim meet begins. \n**Note names for swim records/times\, ribbons\, and trophies will be recorded. Please confirm the correct spelling of First & Last Name on the ticket form.**
URL:https://bluebuoy.com/event/saturday-july-25th-2026-swim-meet-freestyle-butterfly-backstroke/
LOCATION:Blue Buoy Family Swim School\, Nisson Road\, Tustin\, CA\, 92780\, United States
CATEGORIES:Swim Meet
GEO:33.7310777;-117.813173
X-APPLE-STRUCTURED-LOCATION;VALUE=URI;X-ADDRESS=Blue Buoy Family Swim School Nisson Road Tustin CA 92780 United States;X-APPLE-RADIUS=500;X-TITLE=Nisson Road:geo:-117.813173,33.7310777
END:VEVENT
BEGIN:VEVENT
DTSTART;TZID=America/Los_Angeles:20260808T080000
DTEND;TZID=America/Los_Angeles:20260808T170000
DTSTAMP:20260421T175221
CREATED:20260217T060650Z
LAST-MODIFIED:20260217T061322Z
UID:10001467-1786176000-1786208400@bluebuoy.com
SUMMARY:Saturday\, August 8th 2026 ~ Swim Meet (Freestyle\, Breaststroke\, Indv. Medley)
DESCRIPTION:Online registration for this swim meet ends at 4 pm on the Friday before the event. Walk in-Sign ups are welcome at the pool starting at 1:30 pm on Saturday (event day). \nRegistration costs $6 per swimmer\, per event. \nNo refunds or transfers to different swim meet days.  If you need to change swimmers/event please notify staff before the swim meet begins. \n**Note names for swim records/times\, ribbons\, and trophies will be recorded. Please confirm the correct spelling of First & Last Name on the ticket form.**
URL:https://bluebuoy.com/event/saturday-august-8th-2026-swim-meet-freestyle-breaststroke-indv-medley/
LOCATION:Blue Buoy Family Swim School\, Nisson Road\, Tustin\, CA\, 92780\, United States
CATEGORIES:Swim Meet
GEO:33.7310777;-117.813173
X-APPLE-STRUCTURED-LOCATION;VALUE=URI;X-ADDRESS=Blue Buoy Family Swim School Nisson Road Tustin CA 92780 United States;X-APPLE-RADIUS=500;X-TITLE=Nisson Road:geo:-117.813173,33.7310777
END:VEVENT
BEGIN:VEVENT
DTSTART;TZID=America/Los_Angeles:20260822T133000
DTEND;TZID=America/Los_Angeles:20260822T170000
DTSTAMP:20260421T175221
CREATED:20260218T053538Z
LAST-MODIFIED:20260218T053538Z
UID:10001470-1787405400-1787418000@bluebuoy.com
SUMMARY:Saturday\, Aug. 22nd 2026 ~ Swim Meet (Freestyle\, Butterfly\, Backstroke/ Parent’s race)
DESCRIPTION:Online registration for this swim meet ends at 4 pm on the Friday before the event. Walk in-Sign ups are welcome at the pool starting at 1:30 pm on Saturday (event day). \nRegistration costs $6 per swimmer\, per event. \nNo refunds or transfers to different swim meet days.  If you need to change swimmers/event please notify staff before the swim meet begins. \n**Note names for swim records/times\, ribbons\, and trophies will be recorded. Please confirm the correct spelling of First & Last Name on the ticket form.**
URL:https://bluebuoy.com/event/saturday-aug-22nd-2026-swim-meet-freestyle-butterfly-backstroke-parents-race/
LOCATION:Blue Buoy Family Swim School\, Nisson Road\, Tustin\, CA\, 92780\, United States
CATEGORIES:Swim Meet
GEO:33.7310777;-117.813173
X-APPLE-STRUCTURED-LOCATION;VALUE=URI;X-ADDRESS=Blue Buoy Family Swim School Nisson Road Tustin CA 92780 United States;X-APPLE-RADIUS=500;X-TITLE=Nisson Road:geo:-117.813173,33.7310777
END:VEVENT
END:VCALENDAR