BEGIN:VCALENDAR
VERSION:2.0
PRODID:-//Blue Buoy Swim School, Tustin CA - ECPv6.15.20//NONSGML v1.0//EN
CALSCALE:GREGORIAN
METHOD:PUBLISH
X-WR-CALNAME:Blue Buoy Swim School, Tustin CA
X-ORIGINAL-URL:https://bluebuoy.com
X-WR-CALDESC:Events for Blue Buoy Swim School, Tustin CA
REFRESH-INTERVAL;VALUE=DURATION:PT1H
X-Robots-Tag:noindex
X-PUBLISHED-TTL:PT1H
BEGIN:VTIMEZONE
TZID:America/Los_Angeles
BEGIN:DAYLIGHT
TZOFFSETFROM:-0800
TZOFFSETTO:-0700
TZNAME:PDT
DTSTART:20220313T100000
END:DAYLIGHT
BEGIN:STANDARD
TZOFFSETFROM:-0700
TZOFFSETTO:-0800
TZNAME:PST
DTSTART:20221106T090000
END:STANDARD
BEGIN:DAYLIGHT
TZOFFSETFROM:-0800
TZOFFSETTO:-0700
TZNAME:PDT
DTSTART:20230312T100000
END:DAYLIGHT
BEGIN:STANDARD
TZOFFSETFROM:-0700
TZOFFSETTO:-0800
TZNAME:PST
DTSTART:20231105T090000
END:STANDARD
BEGIN:DAYLIGHT
TZOFFSETFROM:-0800
TZOFFSETTO:-0700
TZNAME:PDT
DTSTART:20240310T100000
END:DAYLIGHT
BEGIN:STANDARD
TZOFFSETFROM:-0700
TZOFFSETTO:-0800
TZNAME:PST
DTSTART:20241103T090000
END:STANDARD
BEGIN:DAYLIGHT
TZOFFSETFROM:-0800
TZOFFSETTO:-0700
TZNAME:PDT
DTSTART:20250309T100000
END:DAYLIGHT
BEGIN:STANDARD
TZOFFSETFROM:-0700
TZOFFSETTO:-0800
TZNAME:PST
DTSTART:20251102T090000
END:STANDARD
END:VTIMEZONE
BEGIN:VEVENT
DTSTART;TZID=America/Los_Angeles:20240810T133000
DTEND;TZID=America/Los_Angeles:20240810T170000
DTSTAMP:20260421T170402
CREATED:20231219T183201Z
LAST-MODIFIED:20240925T180800Z
UID:10001393-1723296600-1723309200@bluebuoy.com
SUMMARY:Saturday\, Aug. 10th 2024 ~ Swim Meet (Freestyle\, Breaststroke\, Indv. Medley)
DESCRIPTION:Online registration for this swim meet ends at 4 pm on the Friday before the event. Walk in-Sign ups are welcome at the pool starting at 1:30 pm on Saturday (event day). \nRegistration costs $6 per swimmer\, per event. \nNo refunds or transfers to different swim meet days.  If you need to change swimmers/event please notify staff before the swim meet begins. \n**Note names for swim records/times\, ribbons\, and trophies will be recorded. Please confirm the correct spelling of First & Last Name on the ticket form.**
URL:https://bluebuoy.com/event/saturday-aug-10th-2024-swim-meet/
LOCATION:Blue Buoy Family Swim School\, Nisson Road\, Tustin\, CA\, 92780\, United States
CATEGORIES:Swim Meet
GEO:33.7310777;-117.813173
X-APPLE-STRUCTURED-LOCATION;VALUE=URI;X-ADDRESS=Blue Buoy Family Swim School Nisson Road Tustin CA 92780 United States;X-APPLE-RADIUS=500;X-TITLE=Nisson Road:geo:-117.813173,33.7310777
END:VEVENT
BEGIN:VEVENT
DTSTART;TZID=America/Los_Angeles:20240727T133000
DTEND;TZID=America/Los_Angeles:20240727T170000
DTSTAMP:20260421T170402
CREATED:20231219T182929Z
LAST-MODIFIED:20240925T180800Z
UID:10001392-1722087000-1722099600@bluebuoy.com
SUMMARY:Saturday\, July 27th 2024 ~ Swim Meet (Freestyle\, Butterfly\, Backstroke)
DESCRIPTION:Online registration for this swim meet ends at 4 pm on the Friday before the event. Walk in-Sign ups are welcome at the pool starting at 1:30 pm on Saturday (event day). \nRegistration costs $6 per swimmer\, per event. \nNo refunds or transfers to different swim meet days.  If you need to change swimmers/event please notify staff before the swim meet begins. \n**Note names for swim records/times\, ribbons\, and trophies will be recorded. Please confirm the correct spelling of First & Last Name on the ticket form.**
URL:https://bluebuoy.com/event/saturday-july-27th-2024-swim-meet/
LOCATION:Blue Buoy Family Swim School\, Nisson Road\, Tustin\, CA\, 92780\, United States
CATEGORIES:Swim Meet
GEO:33.7310777;-117.813173
X-APPLE-STRUCTURED-LOCATION;VALUE=URI;X-ADDRESS=Blue Buoy Family Swim School Nisson Road Tustin CA 92780 United States;X-APPLE-RADIUS=500;X-TITLE=Nisson Road:geo:-117.813173,33.7310777
END:VEVENT
BEGIN:VEVENT
DTSTART;TZID=America/Los_Angeles:20240713T133000
DTEND;TZID=America/Los_Angeles:20240713T170000
DTSTAMP:20260421T170402
CREATED:20231219T182739Z
LAST-MODIFIED:20240925T180801Z
UID:10001391-1720877400-1720890000@bluebuoy.com
SUMMARY:Saturday\, July 13th 2024 ~ Swim Meet (Freestyle\, Breaststroke\, Indv. Medley)
DESCRIPTION:Online registration for this swim meet ends at 4 pm on the Friday before the event. Walk in-Sign ups are welcome at the pool starting at 1:30 pm on Saturday (event day). \nRegistration costs $6 per swimmer\, per event. \nNo refunds or transfers to different swim meet days.  If you need to change swimmers/event please notify staff before the swim meet begins. \n**Note names for swim records/times\, ribbons\, and trophies will be recorded. Please confirm the correct spelling of First & Last Name on the ticket form.**
URL:https://bluebuoy.com/event/saturday-july-13th-2024-swim-meet/
LOCATION:Blue Buoy Family Swim School\, Nisson Road\, Tustin\, CA\, 92780\, United States
CATEGORIES:Swim Meet
GEO:33.7310777;-117.813173
X-APPLE-STRUCTURED-LOCATION;VALUE=URI;X-ADDRESS=Blue Buoy Family Swim School Nisson Road Tustin CA 92780 United States;X-APPLE-RADIUS=500;X-TITLE=Nisson Road:geo:-117.813173,33.7310777
END:VEVENT
BEGIN:VEVENT
DTSTART;TZID=America/Los_Angeles:20240629T133000
DTEND;TZID=America/Los_Angeles:20240629T170000
DTSTAMP:20260421T170402
CREATED:20231219T182006Z
LAST-MODIFIED:20240925T180801Z
UID:10001389-1719667800-1719680400@bluebuoy.com
SUMMARY:Saturday\, June 29th 2024  ~ Swim Meet (Freestyle\, Butterfly\, Backstroke)
DESCRIPTION:Online registration for this swim meet ends at 4 pm on the Friday before the event. Walk in-Sign ups are welcome at the pool starting at 1:30 pm on Saturday (event day). \nRegistration costs $6 per swimmer\, per event. \nNo refunds or transfers to different swim meet days.  If you need to change swimmers/event please notify staff before the swim meet begins. \n**Note names for swim records/times\, ribbons\, and trophies will be recorded. Please confirm the correct spelling of First & Last Name on the ticket form.**
URL:https://bluebuoy.com/event/swim-meet-june-29th-2024/
LOCATION:Blue Buoy Family Swim School\, Nisson Road\, Tustin\, CA\, 92780\, United States
CATEGORIES:Swim Meet
GEO:33.7310777;-117.813173
X-APPLE-STRUCTURED-LOCATION;VALUE=URI;X-ADDRESS=Blue Buoy Family Swim School Nisson Road Tustin CA 92780 United States;X-APPLE-RADIUS=500;X-TITLE=Nisson Road:geo:-117.813173,33.7310777
END:VEVENT
BEGIN:VEVENT
DTSTART;TZID=America/Los_Angeles:20240615T133000
DTEND;TZID=America/Los_Angeles:20240615T170000
DTSTAMP:20260421T170402
CREATED:20231218T225109Z
LAST-MODIFIED:20240925T180802Z
UID:10001386-1718458200-1718470800@bluebuoy.com
SUMMARY:Swim Meet June 15\, 2024 (Freestyle\, Breaststroke\, Indv. Medley)
DESCRIPTION:Online registration for this swim meet ends at 4 pm on the Friday before the event. Walk in-Sign ups are welcome at the pool starting at 1:30 pm on Saturday (event day). \nRegistration costs $6 per swimmer\, per event. \nNo refunds or transfers to different swim meet days.  If you need to change swimmers/event please notify staff before the swim meet begins. \n**Note names for swim records/times\, ribbons\, and trophies will be recorded. Please confirm the correct spelling of First & Last Name on the ticket form.**
URL:https://bluebuoy.com/event/swim-meet-june-15-2024/
LOCATION:Blue Buoy Family Swim School\, Nisson Road\, Tustin\, CA\, 92780\, United States
CATEGORIES:Swim Meet
GEO:33.7310777;-117.813173
X-APPLE-STRUCTURED-LOCATION;VALUE=URI;X-ADDRESS=Blue Buoy Family Swim School Nisson Road Tustin CA 92780 United States;X-APPLE-RADIUS=500;X-TITLE=Nisson Road:geo:-117.813173,33.7310777
END:VEVENT
BEGIN:VEVENT
DTSTART;TZID=America/Los_Angeles:20240531T180000
DTEND;TZID=America/Los_Angeles:20240531T190000
DTSTAMP:20260421T170402
CREATED:20240410T223349Z
LAST-MODIFIED:20240925T180802Z
UID:10001405-1717178400-1717182000@bluebuoy.com
SUMMARY:Splashball Clinic 2024
DESCRIPTION:Come have some fun and learn the basics of water polo! \nAges 6 & older \nSwim experience: Basic knowledge of all four strokes\n*This program is open to currently enrolled students\nand their siblings \nSplashball is designed to provide basic skills and\nunderstanding of the sport water polo in a fun\, dynamic\,\nsafe and easy-to-learn aquatic experience \nFridays: May 10th\, May 17th\,\nMay 24th & May 31st.\nTime: 6 p.m. – 7 p.m.\n(Check-in at 5:45 p.m.)\nSpaces are limited \nPayment is due upon reservation. No refunds. No make-ups.\nCall our Scheduling Office at 714-832-8910 to get more\ninformation or to sign up! (M-F: 9 a.m.—5 p.m. & Sat: 9 a.m.—1p.m.) \nCost: $200 for all 4 consecutive Friday sessions\nor\n$60 single Friday session Olympian at every session!
URL:https://bluebuoy.com/event/splashball-clinic-2024/2024-05-31/
END:VEVENT
BEGIN:VEVENT
DTSTART;TZID=America/Los_Angeles:20240524T180000
DTEND;TZID=America/Los_Angeles:20240524T190000
DTSTAMP:20260421T170402
CREATED:20240410T223349Z
LAST-MODIFIED:20240925T180802Z
UID:10001404-1716573600-1716577200@bluebuoy.com
SUMMARY:Splashball Clinic 2024
DESCRIPTION:Come have some fun and learn the basics of water polo! \nAges 6 & older \nSwim experience: Basic knowledge of all four strokes\n*This program is open to currently enrolled students\nand their siblings \nSplashball is designed to provide basic skills and\nunderstanding of the sport water polo in a fun\, dynamic\,\nsafe and easy-to-learn aquatic experience \nFridays: May 10th\, May 17th\,\nMay 24th & May 31st.\nTime: 6 p.m. – 7 p.m.\n(Check-in at 5:45 p.m.)\nSpaces are limited \nPayment is due upon reservation. No refunds. No make-ups.\nCall our Scheduling Office at 714-832-8910 to get more\ninformation or to sign up! (M-F: 9 a.m.—5 p.m. & Sat: 9 a.m.—1p.m.) \nCost: $200 for all 4 consecutive Friday sessions\nor\n$60 single Friday session Olympian at every session!
URL:https://bluebuoy.com/event/splashball-clinic-2024/2024-05-24/
END:VEVENT
BEGIN:VEVENT
DTSTART;TZID=America/Los_Angeles:20240517T180000
DTEND;TZID=America/Los_Angeles:20240517T190000
DTSTAMP:20260421T170402
CREATED:20240410T223349Z
LAST-MODIFIED:20240925T180802Z
UID:10001403-1715968800-1715972400@bluebuoy.com
SUMMARY:Splashball Clinic 2024
DESCRIPTION:Come have some fun and learn the basics of water polo! \nAges 6 & older \nSwim experience: Basic knowledge of all four strokes\n*This program is open to currently enrolled students\nand their siblings \nSplashball is designed to provide basic skills and\nunderstanding of the sport water polo in a fun\, dynamic\,\nsafe and easy-to-learn aquatic experience \nFridays: May 10th\, May 17th\,\nMay 24th & May 31st.\nTime: 6 p.m. – 7 p.m.\n(Check-in at 5:45 p.m.)\nSpaces are limited \nPayment is due upon reservation. No refunds. No make-ups.\nCall our Scheduling Office at 714-832-8910 to get more\ninformation or to sign up! (M-F: 9 a.m.—5 p.m. & Sat: 9 a.m.—1p.m.) \nCost: $200 for all 4 consecutive Friday sessions\nor\n$60 single Friday session Olympian at every session!
URL:https://bluebuoy.com/event/splashball-clinic-2024/2024-05-17/
END:VEVENT
BEGIN:VEVENT
DTSTART;TZID=America/Los_Angeles:20240510T180000
DTEND;TZID=America/Los_Angeles:20240510T190000
DTSTAMP:20260421T170402
CREATED:20240410T223349Z
LAST-MODIFIED:20240925T180802Z
UID:10001402-1715364000-1715367600@bluebuoy.com
SUMMARY:Splashball Clinic 2024
DESCRIPTION:Come have some fun and learn the basics of water polo! \nAges 6 & older \nSwim experience: Basic knowledge of all four strokes\n*This program is open to currently enrolled students\nand their siblings \nSplashball is designed to provide basic skills and\nunderstanding of the sport water polo in a fun\, dynamic\,\nsafe and easy-to-learn aquatic experience \nFridays: May 10th\, May 17th\,\nMay 24th & May 31st.\nTime: 6 p.m. – 7 p.m.\n(Check-in at 5:45 p.m.)\nSpaces are limited \nPayment is due upon reservation. No refunds. No make-ups.\nCall our Scheduling Office at 714-832-8910 to get more\ninformation or to sign up! (M-F: 9 a.m.—5 p.m. & Sat: 9 a.m.—1p.m.) \nCost: $200 for all 4 consecutive Friday sessions\nor\n$60 single Friday session Olympian at every session!
URL:https://bluebuoy.com/event/splashball-clinic-2024/2024-05-10/
END:VEVENT
BEGIN:VEVENT
DTSTART;VALUE=DATE:20231031
DTEND;VALUE=DATE:20231101
DTSTAMP:20260421T170402
CREATED:20230118T184309Z
LAST-MODIFIED:20240925T180802Z
UID:10001370-1698710400-1698796799@bluebuoy.com
SUMMARY:CLOSING EARLY: Halloween
DESCRIPTION:Happy Halloween\, we will be closing at 5pm (last lessons 4:40pm)
URL:https://bluebuoy.com/event/closing-early-halloween/
LOCATION:Blue Buoy Family Swim School\, Nisson Road\, Tustin\, CA\, 92780\, United States
GEO:33.7310777;-117.813173
X-APPLE-STRUCTURED-LOCATION;VALUE=URI;X-ADDRESS=Blue Buoy Family Swim School Nisson Road Tustin CA 92780 United States;X-APPLE-RADIUS=500;X-TITLE=Nisson Road:geo:-117.813173,33.7310777
END:VEVENT
BEGIN:VEVENT
DTSTART;VALUE=DATE:20231009
DTEND;VALUE=DATE:20231010
DTSTAMP:20260421T170402
CREATED:20230118T184203Z
LAST-MODIFIED:20240925T180802Z
UID:10001369-1696809600-1696895999@bluebuoy.com
SUMMARY:Monday\, Oct. 9th Columbus Day (Open regular hours)
DESCRIPTION:
URL:https://bluebuoy.com/event/monday-oct-9th-columbus-day-open-regular-hours/
LOCATION:Blue Buoy Family Swim School\, Nisson Road\, Tustin\, CA\, 92780\, United States
GEO:33.7310777;-117.813173
X-APPLE-STRUCTURED-LOCATION;VALUE=URI;X-ADDRESS=Blue Buoy Family Swim School Nisson Road Tustin CA 92780 United States;X-APPLE-RADIUS=500;X-TITLE=Nisson Road:geo:-117.813173,33.7310777
END:VEVENT
BEGIN:VEVENT
DTSTART;VALUE=DATE:20230910
DTEND;VALUE=DATE:20230911
DTSTAMP:20260421T170402
CREATED:20230118T184121Z
LAST-MODIFIED:20240925T180803Z
UID:10001368-1694304000-1694390399@bluebuoy.com
SUMMARY:Sunday\, September 10th ~ Happy Grandparents Day!  (Bring your grandparent in this month for a Free Grandparents T-Shirt)
DESCRIPTION:
URL:https://bluebuoy.com/event/sunday-september-10th-happy-grandparents-day-bring-your-grandparent-in-this-month-for-a-free-grandparents-t-shirt/
LOCATION:Blue Buoy Family Swim School\, Nisson Road\, Tustin\, CA\, 92780\, United States
GEO:33.7310777;-117.813173
X-APPLE-STRUCTURED-LOCATION;VALUE=URI;X-ADDRESS=Blue Buoy Family Swim School Nisson Road Tustin CA 92780 United States;X-APPLE-RADIUS=500;X-TITLE=Nisson Road:geo:-117.813173,33.7310777
END:VEVENT
BEGIN:VEVENT
DTSTART;TZID=America/Los_Angeles:20230819T133000
DTEND;TZID=America/Los_Angeles:20230819T170000
DTSTAMP:20260421T170402
CREATED:20230609T170053Z
LAST-MODIFIED:20240925T180803Z
UID:10001379-1692451800-1692464400@bluebuoy.com
SUMMARY:Swim Meet August 19th - Parent's & Staff Race Day (Freestyle\, Butterfly\, Backstroke)
DESCRIPTION:Online registration for this swim meet ends at 4 pm on the Friday before the event. Walk in-Sign ups are welcome at the pool starting at 1:30 pm on Saturday (event day). \nRegistration costs $6 per swimmer\, per event. \nNo refunds or transfers to different swim meet days.  If you need to change swimmers/event please notify staff before the swim meet begins. \n**Note names for swim records/times\, ribbons\, and trophies will be recorded. Please confirm the correct spelling of First & Last Name on the ticket form.**
URL:https://bluebuoy.com/event/swim-meet-august-19th/
LOCATION:Blue Buoy Family Swim School\, Nisson Road\, Tustin\, CA\, 92780\, United States
CATEGORIES:Swim Meet
GEO:33.7310777;-117.813173
X-APPLE-STRUCTURED-LOCATION;VALUE=URI;X-ADDRESS=Blue Buoy Family Swim School Nisson Road Tustin CA 92780 United States;X-APPLE-RADIUS=500;X-TITLE=Nisson Road:geo:-117.813173,33.7310777
END:VEVENT
BEGIN:VEVENT
DTSTART;TZID=America/Los_Angeles:20230805T133000
DTEND;TZID=America/Los_Angeles:20230805T170000
DTSTAMP:20260421T170402
CREATED:20230608T005700Z
LAST-MODIFIED:20240925T180803Z
UID:10001378-1691242200-1691254800@bluebuoy.com
SUMMARY:Swim Meet August 5th (Freestyle\, Breaststroke\, Indv. Medley)
DESCRIPTION:Online registration for this swim meet ends at 4 pm on the Friday before the event. Walk in-Sign ups are welcome at the pool starting at 1:30 pm on Saturday (event day). \nRegistration costs $6 per swimmer\, per event. \nNo refunds or transfers to different swim meet days.  If you need to change swimmers/event please notify staff before the swim meet begins. \n**Note names for swim records/times\, ribbons\, and trophies will be recorded. Please confirm the correct spelling of First & Last Name on the ticket form.**
URL:https://bluebuoy.com/event/swim-meet-august-5th/
LOCATION:Blue Buoy Family Swim School\, Nisson Road\, Tustin\, CA\, 92780\, United States
CATEGORIES:Swim Meet
GEO:33.7310777;-117.813173
X-APPLE-STRUCTURED-LOCATION;VALUE=URI;X-ADDRESS=Blue Buoy Family Swim School Nisson Road Tustin CA 92780 United States;X-APPLE-RADIUS=500;X-TITLE=Nisson Road:geo:-117.813173,33.7310777
END:VEVENT
BEGIN:VEVENT
DTSTART;TZID=America/Los_Angeles:20230722T133000
DTEND;TZID=America/Los_Angeles:20230722T170000
DTSTAMP:20260421T170402
CREATED:20230608T003047Z
LAST-MODIFIED:20240925T180804Z
UID:10001377-1690032600-1690045200@bluebuoy.com
SUMMARY:Swim Meet July 22nd (Freestyle\, Butterfly\, Backstroke)
DESCRIPTION:Online registration for this swim meet ends at 4 pm on the Friday before the event. Walk in-Sign ups are welcome at the pool starting at 1:30 pm on Saturday (event day). \nRegistration costs $6 per swimmer\, per event. \nNo refunds or transfers to different swim meet days.  If you need to change swimmers/event please notify staff before the swim meet begins. \n**Note names for swim records/times\, ribbons\, and trophies will be recorded. Please confirm the correct spelling of First & Last Name on the ticket form.**
URL:https://bluebuoy.com/event/swim-meet-july-22nd/
LOCATION:Blue Buoy Family Swim School\, Nisson Road\, Tustin\, CA\, 92780\, United States
CATEGORIES:Swim Meet
GEO:33.7310777;-117.813173
X-APPLE-STRUCTURED-LOCATION;VALUE=URI;X-ADDRESS=Blue Buoy Family Swim School Nisson Road Tustin CA 92780 United States;X-APPLE-RADIUS=500;X-TITLE=Nisson Road:geo:-117.813173,33.7310777
END:VEVENT
BEGIN:VEVENT
DTSTART;TZID=America/Los_Angeles:20230708T133000
DTEND;TZID=America/Los_Angeles:20230708T170000
DTSTAMP:20260421T170402
CREATED:20230210T005019Z
LAST-MODIFIED:20240322T184758Z
UID:10001374-1688823000-1688835600@bluebuoy.com
SUMMARY:Swim Meet July 8th (Freestyle\, Breaststroke\, Indv. Medley)
DESCRIPTION:Online registration for this swim meet ends at 4 pm on the Friday before the event. Walk in-Sign ups are welcome at the pool starting at 1:30 pm on Saturday (event day). \nRegistration costs $6 per swimmer\, per event. \nNo refunds or transfers to different swim meet days.  If you need to change swimmers/event please notify staff before the swim meet begins. \n**Note names for swim records/times\, ribbons\, and trophies will be recorded. Please confirm the correct spelling of First & Last Name on the ticket form.**
URL:https://bluebuoy.com/event/swim-meet-july-8th/
LOCATION:Blue Buoy Family Swim School\, Nisson Road\, Tustin\, CA\, 92780\, United States
CATEGORIES:Swim Meet
GEO:33.7310777;-117.813173
X-APPLE-STRUCTURED-LOCATION;VALUE=URI;X-ADDRESS=Blue Buoy Family Swim School Nisson Road Tustin CA 92780 United States;X-APPLE-RADIUS=500;X-TITLE=Nisson Road:geo:-117.813173,33.7310777
END:VEVENT
BEGIN:VEVENT
DTSTART;TZID=America/Los_Angeles:20230624T133000
DTEND;TZID=America/Los_Angeles:20230624T170000
DTSTAMP:20260421T170403
CREATED:20230607T173143Z
LAST-MODIFIED:20241112T190500Z
UID:10001376-1687613400-1687626000@bluebuoy.com
SUMMARY:Swim Meet June 24th (Freestyle\, Butterfly\, Backstroke)
DESCRIPTION:Online registration for this swim meet ends at 4 pm on the Friday before the event. Walk in-Sign ups are welcome at the pool starting at 1:30 pm on Saturday (event day). \nRegistration costs $6 per swimmer\, per event. \nNo refunds or transfers to different swim meet days.  If you need to change swimmers/event please notify staff before the swim meet begins. \n**Note names for swim records/times\, ribbons\, and trophies will be recorded. Please confirm the correct spelling of First & Last Name on the ticket form.**
URL:https://bluebuoy.com/event/swim-meet-june-24th/
LOCATION:Blue Buoy Family Swim School\, Nisson Road\, Tustin\, CA\, 92780\, United States
CATEGORIES:Swim Meet
GEO:33.7310777;-117.813173
X-APPLE-STRUCTURED-LOCATION;VALUE=URI;X-ADDRESS=Blue Buoy Family Swim School Nisson Road Tustin CA 92780 United States;X-APPLE-RADIUS=500;X-TITLE=Nisson Road:geo:-117.813173,33.7310777
END:VEVENT
END:VCALENDAR