BEGIN:VCALENDAR
VERSION:2.0
PRODID:-//Blue Buoy Swim School, Tustin CA - ECPv6.15.20//NONSGML v1.0//EN
CALSCALE:GREGORIAN
METHOD:PUBLISH
X-WR-CALNAME:Blue Buoy Swim School, Tustin CA
X-ORIGINAL-URL:https://bluebuoy.com
X-WR-CALDESC:Events for Blue Buoy Swim School, Tustin CA
REFRESH-INTERVAL;VALUE=DURATION:PT1H
X-Robots-Tag:noindex
X-PUBLISHED-TTL:PT1H
BEGIN:VTIMEZONE
TZID:America/Los_Angeles
BEGIN:DAYLIGHT
TZOFFSETFROM:-0800
TZOFFSETTO:-0700
TZNAME:PDT
DTSTART:20250309T100000
END:DAYLIGHT
BEGIN:STANDARD
TZOFFSETFROM:-0700
TZOFFSETTO:-0800
TZNAME:PST
DTSTART:20251102T090000
END:STANDARD
BEGIN:DAYLIGHT
TZOFFSETFROM:-0800
TZOFFSETTO:-0700
TZNAME:PDT
DTSTART:20260308T100000
END:DAYLIGHT
BEGIN:STANDARD
TZOFFSETFROM:-0700
TZOFFSETTO:-0800
TZNAME:PST
DTSTART:20261101T090000
END:STANDARD
BEGIN:DAYLIGHT
TZOFFSETFROM:-0800
TZOFFSETTO:-0700
TZNAME:PDT
DTSTART:20270314T100000
END:DAYLIGHT
BEGIN:STANDARD
TZOFFSETFROM:-0700
TZOFFSETTO:-0800
TZNAME:PST
DTSTART:20271107T090000
END:STANDARD
END:VTIMEZONE
BEGIN:VEVENT
DTSTART;VALUE=DATE:20261111
DTEND;VALUE=DATE:20261112
DTSTAMP:20260421T221849
CREATED:20260211T060508Z
LAST-MODIFIED:20260211T060508Z
UID:10001463-1794355200-1794441599@bluebuoy.com
SUMMARY:Happy Veterans’ Day (Open regular hours)
DESCRIPTION:
URL:https://bluebuoy.com/event/happy-veterans-day-open-regular-hours/
LOCATION:CA
END:VEVENT
BEGIN:VEVENT
DTSTART;VALUE=DATE:20261126
DTEND;VALUE=DATE:20261129
DTSTAMP:20260421T221849
CREATED:20260211T060508Z
LAST-MODIFIED:20260211T060508Z
UID:10001464-1795651200-1795910399@bluebuoy.com
SUMMARY:CLOSED ~ Thanksgiving Holiday
DESCRIPTION:
URL:https://bluebuoy.com/event/closed-thanksgiving-holiday/
LOCATION:CA
END:VEVENT
BEGIN:VEVENT
DTSTART;VALUE=DATE:20261221
DTEND;VALUE=DATE:20270101
DTSTAMP:20260421T221849
CREATED:20260211T060509Z
LAST-MODIFIED:20260211T060509Z
UID:10001465-1797811200-1798761599@bluebuoy.com
SUMMARY:CLOSED ~ Begin Holiday Break
DESCRIPTION:
URL:https://bluebuoy.com/event/closed-begin-holiday-break/
LOCATION:CA
END:VEVENT
END:VCALENDAR